7748,0810150980706
11,998435638849573
13,297349408925941
-7775,4447331172878
-4079621,8149791551
4493168,3789290888
